BEGIN:VCALENDAR
VERSION:2.0
PRODID:-//hacksw/handcal//NONSGML v1.0//EN
BEGIN:VEVENT
SUMMARY:Sortie Golf d'Evreux mercredi 6 mai 2026
UID:86869f94-34dd-4f6b-917b-3473c03f300f
DTSTART:20260506T100000Z
DTEND:20260506T170000Z
LOCATION:Localisation   
CATEGORIES:Sportif
STATUS:
URL;VALUE=URI:https://www.asgb27.com/evenements/2026/05/06/sortie-golf-devreux-mercredi-6-mai-2026-2439536
END:VEVENT
END:VCALENDAR
